BEGIN:VCALENDAR
VERSION:2.0
PRODID:-//eventon.com NONSGML v1.0//EN
BEGIN:VEVENT
UID:69e88b4200424
DTSTAMP:20260422T104802
DTSTART:20240925T073000Z
DTEND:20240925T103000Z
TZID:Europe/Berlin
LOCATION:Tagespflege Lebensfreude Garten in der Demminer Straße 38\,  13158 Berlin
SUMMARY:Sportfest für Alle
DESCRIPTION: Gemeinsam mit den Tagesgästen und den Bewohner*innen des Hauses wollen wir einladen zu einem Sportfest für Klein und Groß. Anmeldung erforderlich (bis zu 30 Personen) Besonders geeignet für Senior*innen und Kinder. Barrierefrei\nhttp://woche-der-generationen.de/events/zusammen-nachhaltig-denken-und-leben/
URL:http://woche-der-generationen.de/events/zusammen-nachhaltig-denken-und-leben/
END:VEVENT
END:VCALENDAR